BEGIN:VCALENDAR
VERSION:2.0
PRODID:-//OmniMagnetCalendar//EN
BEGIN:VEVENT
DTSTAMP:20190625T195740Z
STATUS:CONFIRMED
UID:hccincinnati.clubs.harvard.edu684
DTSTART:20260502T140000Z
DTEND:20260502T150000Z
LOCATION:Cincinnati Public Library  - Clifton, 3400 Brookline Avenue, Cincinnati, OH, 45220,
SUMMARY: May Meeting of HCC Not-a-Book Club on May 2nd
DESCRIPTION:Discussion regarding "Moment of Truth:  Sam Altman May Control Our Future—Can He Be Trusted?"
BEGIN:VALARM
TRIGGER:-PT15M
ACTION:DISPLAY
END:VALARM
TRANSP:OPAQUE
END:VEVENT
END:VCALENDAR
