BEGIN:VCALENDAR
VERSION:2.0
PRODID:-//OmniMagnetCalendar//EN
BEGIN:VEVENT
DTSTAMP:20190625T195740Z
STATUS:CONFIRMED
UID:hccincinnati.clubs.harvard.edu682
DTSTART:20260519T213000Z
DTEND:20260519T233000Z
LOCATION:THe Hub, 8044 Montgomery Road, Suite 640, Cincinnati , OH, 45236, United States,
SUMMARY:2026 Shore Dinner
DESCRIPTION:A New Take on an Old Tradition - Celebrating grassroots democracy in our Country's Semiquincentennial Year.
BEGIN:VALARM
TRIGGER:-PT15M
ACTION:DISPLAY
END:VALARM
TRANSP:OPAQUE
END:VEVENT
END:VCALENDAR
