BEGIN:VCALENDAR
VERSION:2.0
PRODID:-//OmniMagnetCalendar//EN
BEGIN:VEVENT
DTSTAMP:20190625T195740Z
STATUS:CONFIRMED
UID:hccincinnati.clubs.harvard.edu676
DTSTART:20260201T180000Z
DTEND:20260201T200000Z
LOCATION:Indian Hill Winter Club, 10005 Fletcher Rd., Camp Dennison, OH, 45111,
SUMMARY:2026 Winter Frolic!  - February 1st
DESCRIPTION:Join us at the Indian Hill Winter Club for winter fun! Ice skating, crackling fires, games in the gym and more. Open to all alumni and families of Ivy League Clubs
BEGIN:VALARM
TRIGGER:-PT15M
ACTION:DISPLAY
END:VALARM
TRANSP:OPAQUE
END:VEVENT
END:VCALENDAR
