BEGIN:VCALENDAR
VERSION:2.0
PRODID:-//OmniMagnetCalendar//EN
BEGIN:VEVENT
DTSTAMP:20190625T195740Z
STATUS:CONFIRMED
UID:hccincinnati.clubs.harvard.edu674
DTSTART:20260121T220000Z
DTEND:20260122T003000Z
LOCATION:Che O'Bryonville, 2038 Madison Rd, Cincinnati, OH, 45208,
SUMMARY:Pop Up Social - Wednesday, January 21st
DESCRIPTION:Come relax and enjoy a chat with us in the O'Bryonville neighborhood! We'll be around from 5-7:30 pm.
BEGIN:VALARM
TRIGGER:-PT15M
ACTION:DISPLAY
END:VALARM
TRANSP:OPAQUE
END:VEVENT
END:VCALENDAR
