BEGIN:VCALENDAR
VERSION:2.0
PRODID:-//OmniMagnetCalendar//EN
BEGIN:VEVENT
DTSTAMP:20190625T195740Z
STATUS:CONFIRMED
UID:hccincinnati.clubs.harvard.edu669
DTSTART:20251218T230000Z
DTEND:20251219T013000Z
LOCATION:The Symphony Hotel & Vivaldi's Restaurant, 210 West 14th Street, Cincinnati, OH, 45202,
SUMMARY:Annual Holiday Reception on December 18, 2025
DESCRIPTION:Join us downtown to celebrate the holiday season with the Harvard community at the Symphony Hotel & Vivaldi's Restaurant
BEGIN:VALARM
TRIGGER:-PT15M
ACTION:DISPLAY
END:VALARM
TRANSP:OPAQUE
END:VEVENT
END:VCALENDAR
