BEGIN:VCALENDAR
VERSION:2.0
PRODID:-//OmniMagnetCalendar//EN
BEGIN:VEVENT
DTSTAMP:20190625T195740Z
STATUS:CONFIRMED
UID:hccincinnati.clubs.harvard.edu668
DTSTART:20251122T160000Z
DTEND:20251122T210000Z
LOCATION:The Boars Room, 1301 Holman Ave, Covington, KY, 41011,
SUMMARY:Harvard/Yale Game on Saturday, November 22nd!
DESCRIPTION:Join your fellow Harvard Alum and families at the Boars Room in Covington, KY to cheer the Crimson to victory over Yale!
BEGIN:VALARM
TRIGGER:-PT15M
ACTION:DISPLAY
END:VALARM
TRANSP:OPAQUE
END:VEVENT
END:VCALENDAR
