BEGIN:VCALENDAR
VERSION:2.0
PRODID:-//OmniMagnetCalendar//EN
BEGIN:VEVENT
DTSTAMP:20190625T195740Z
STATUS:CONFIRMED
UID:hccincinnati.clubs.harvard.edu662
DTSTART:20251030T150000Z
DTEND:20251030T170000Z
LOCATION:The Taft Center, 425 Walnut Street, Cincinnati, OH, 45202,
SUMMARY:Democrats, Republicans and Charterites to Discuss Issues Facing Cincinnati!
DESCRIPTION:Mark your calendars for Thursday, October 30th, at The Taft Center for a Luncheon featuring an informal discussion with Democrats, Republicans and Charterites, including several City Council Candidates!
BEGIN:VALARM
TRIGGER:-PT15M
ACTION:DISPLAY
END:VALARM
TRANSP:OPAQUE
END:VEVENT
END:VCALENDAR
