BEGIN:VCALENDAR
VERSION:2.0
PRODID:-//OmniMagnetCalendar//EN
BEGIN:VEVENT
DTSTAMP:20190625T195740Z
STATUS:CONFIRMED
UID:hccincinnati.clubs.harvard.edu656
DTSTART:20251023T213000Z
DTEND:20251024T003000Z
LOCATION:The Remington Room, 7813 Ted Gregory Ln, Montgomery, OH, 45242,
SUMMARY:2025 Harvard Club of Cincinnati Opening Reception
DESCRIPTION:Reconnect with old friends and forged new connections as we kick off the 2025/2026 Harvard Club Year, hosted by our President Eddie Horgan at the Remington Room in Montgomery. Please RSVP so that we can plan for food and beverages accordingly.
BEGIN:VALARM
TRIGGER:-PT15M
ACTION:DISPLAY
END:VALARM
TRANSP:OPAQUE
END:VEVENT
END:VCALENDAR
