BEGIN:VCALENDAR
VERSION:2.0
PRODID:-//OmniMagnetCalendar//EN
BEGIN:VEVENT
DTSTAMP:20190625T195740Z
STATUS:CONFIRMED
UID:hccincinnati.clubs.harvard.edu655
DTSTART:20250920T143000Z
DTEND:20250920T153000Z
LOCATION:Clifton Public Library, 3400 Brookline Avenue, OH, 45220,
SUMMARY:The first meeting of the HCC's Not-a-Book Club
DESCRIPTION:If a Book Club just feels like too much pressure, then how about an Article Club, instead?
BEGIN:VALARM
TRIGGER:-PT15M
ACTION:DISPLAY
END:VALARM
TRANSP:OPAQUE
END:VEVENT
END:VCALENDAR
