BEGIN:VCALENDAR
VERSION:2.0
PRODID:-//OmniMagnetCalendar//EN
BEGIN:VEVENT
DTSTAMP:20190625T195740Z
STATUS:CONFIRMED
UID:hccincinnati.clubs.harvard.edu651
DTSTART:20250902T213000Z
DTEND:20250902T230000Z
LOCATION:Alive & Well, 3410 Telford Street, Cincinnati, OH, 45220,
SUMMARY:Pop-Up Social  - First Day of Harvard Classes Happy Hour!
DESCRIPTION:Alive & Well 3410 Telford Street Cincinnati OH 45220
BEGIN:VALARM
TRIGGER:-PT15M
ACTION:DISPLAY
END:VALARM
TRANSP:OPAQUE
END:VEVENT
END:VCALENDAR
