BEGIN:VCALENDAR
VERSION:2.0
PRODID:-//OmniMagnetCalendar//EN
BEGIN:VEVENT
DTSTAMP:20190625T195740Z
STATUS:CONFIRMED
UID:hccincinnati.clubs.harvard.edu650
DTSTART:20250723T220000Z
DTEND:20250724T000000Z
LOCATION:The Mercantile Library, 414 walnut Street, Cincinnati, OH, 45202, USA,
SUMMARY:Evonne Morales, Principal at Drawing Department,  Speaking on Renovation of Mercantile Library
DESCRIPTION:Wednesday, July 23, 2025, 6-8 p.m. The Mercantile Library 414 Walnut Street, 11th story
BEGIN:VALARM
TRIGGER:-PT15M
ACTION:DISPLAY
END:VALARM
TRANSP:OPAQUE
END:VEVENT
END:VCALENDAR
