BEGIN:VCALENDAR
VERSION:2.0
PRODID:-//OmniMagnetCalendar//EN
BEGIN:VEVENT
DTSTAMP:20190625T195740Z
STATUS:CONFIRMED
UID:hccincinnati.clubs.harvard.edu649
DTSTART:20250803T203000Z
DTEND:20250803T223000Z
LOCATION:Dogwood Park under the Bell Tower , 3721 Pleasant St., Mariemont, OH, 45225,
SUMMARY:Annual Harvard Student Send Off Picnic Sunday, August 3, 2025
DESCRIPTION:Join us as we send off 7 local students from the Class of 2029 and our current students! Come join fellow Harvard alumni, affiliates, students, and their families, and take a break to enjoy summer together once again in Dogwood Park on Pleasant St in Mari
BEGIN:VALARM
TRIGGER:-PT15M
ACTION:DISPLAY
END:VALARM
TRANSP:OPAQUE
END:VEVENT
END:VCALENDAR
