BEGIN:VCALENDAR
VERSION:2.0
PRODID:-//OmniMagnetCalendar//EN
BEGIN:VEVENT
DTSTAMP:20190625T195740Z
STATUS:CONFIRMED
UID:hccincinnati.clubs.harvard.edu624
DTSTART:20241113T223000Z
DTEND:20241023T230000Z
LOCATION:Muse Cafe, 3018 Harrison Ave , Cincinnati, OH, 45211,
SUMMARY:November Pop Up Social on Wednesday, November 13th at Muse Cafe
DESCRIPTION:Join us from 5:30-7:30pm for conversation in a place where you can socialize and relax while enjoying meticulously crafted gourmet drinks and simple yet elegant and delicious foods.
BEGIN:VALARM
TRIGGER:-PT15M
ACTION:DISPLAY
END:VALARM
TRANSP:OPAQUE
END:VEVENT
END:VCALENDAR
