BEGIN:VCALENDAR
VERSION:2.0
PRODID:-//OmniMagnetCalendar//EN
BEGIN:VEVENT
DTSTAMP:20190625T195740Z
STATUS:CONFIRMED
UID:hccincinnati.clubs.harvard.edu615
DTSTART:20241008T213000Z
DTEND:20241008T233001Z
LOCATION:Hub Horan Offices, 8044 Montgomery Road, Suite 640, Cincinnati, OH, 45236,
SUMMARY:Alumni Interviewer Training on Tuesday, 10/8 from 5:30-7:30 in Kenwood
DESCRIPTION:This year, we are doing interviews both in person and remotely, and we will be providing a training session Tuesday, 10/8, from 5:30-7:30pm
BEGIN:VALARM
TRIGGER:-PT15M
ACTION:DISPLAY
END:VALARM
TRANSP:OPAQUE
END:VEVENT
END:VCALENDAR
