BEGIN:VCALENDAR
VERSION:2.0
PRODID:-//OmniMagnetCalendar//EN
BEGIN:VEVENT
DTSTAMP:20190625T195740Z
STATUS:CONFIRMED
UID:hccincinnati.clubs.harvard.edu605
DTSTART:20240402T230000Z
DTEND:20240403T000000Z
LOCATION:
SUMMARY:Learn About the Upcoming Total Solar Eclipse With the Harvard Club of NEO
DESCRIPTION:Join The Harvard Club of Northeast Ohio for a Virtual Presentation on the Upcoming Total Solar Eclipse  Tuesday, April 2, 2024 @ 7 PM
BEGIN:VALARM
TRIGGER:-PT15M
ACTION:DISPLAY
END:VALARM
TRANSP:OPAQUE
END:VEVENT
END:VCALENDAR
