BEGIN:VCALENDAR
VERSION:2.0
PRODID:-//OmniMagnetCalendar//EN
BEGIN:VEVENT
DTSTAMP:20190625T195740Z
STATUS:CONFIRMED
UID:hccincinnati.clubs.harvard.edu602
DTSTART:20240409T220000Z
DTEND:20240410T010000Z
LOCATION:The University Club, 401 E 4th St., Cincinnati, OH, 45202,
SUMMARY:Annual Harvard Speaker Dinner with John Silvanus Wilson, Jr., Former President of Morehouse College
DESCRIPTION:Join us Tuesday, April 9th at the University Club for Dinner and Discussion with John Silvanus Wilson, Jr.,  a prominent figure in higher education.
BEGIN:VALARM
TRIGGER:-PT15M
ACTION:DISPLAY
END:VALARM
TRANSP:OPAQUE
END:VEVENT
END:VCALENDAR
