BEGIN:VCALENDAR
VERSION:2.0
PRODID:-//OmniMagnetCalendar//EN
BEGIN:VEVENT
DTSTAMP:20190625T195740Z
STATUS:CONFIRMED
UID:hccincinnati.clubs.harvard.edu601
DTSTART:20240319T233030Z
DTEND:20240320T010030Z
LOCATION:First Lutheran Church, 1208 Race St, Cincinnati, OH, 45202,
SUMMARY:The Whiffenpoofs are coming to Cincinnati! Tuesday, March 19th, 7:30-9:00pm
DESCRIPTION:Founded in 1909, the Yale Whiffenpoofs have brought their diverse repertoire of vocal jazz, folk, pop, and Broadway hits to more than two hundred audiences each year across all 6 inhabited continents.
BEGIN:VALARM
TRIGGER:-PT15M
ACTION:DISPLAY
END:VALARM
TRANSP:OPAQUE
END:VEVENT
END:VCALENDAR
