BEGIN:VCALENDAR
VERSION:2.0
PRODID:-//OmniMagnetCalendar//EN
BEGIN:VEVENT
DTSTAMP:20190625T195740Z
STATUS:CONFIRMED
UID:hccincinnati.clubs.harvard.edu599
DTSTART:20240201T223000Z
DTEND:20240202T000000Z
LOCATION:
SUMMARY:HJAA invites you to a webinar with former Harvard President Lawrence H. Summers, Ph.D. '82
DESCRIPTION:Professor Summers will discuss his insights about the current crisis of antisemitism at Harvard and what alumni can do to support Jewish life at the University.
BEGIN:VALARM
TRIGGER:-PT15M
ACTION:DISPLAY
END:VALARM
TRANSP:OPAQUE
END:VEVENT
END:VCALENDAR
