BEGIN:VCALENDAR
VERSION:2.0
PRODID:-//OmniMagnetCalendar//EN
BEGIN:VEVENT
DTSTAMP:20190625T195740Z
STATUS:CONFIRMED
UID:hccincinnati.clubs.harvard.edu593
DTSTART:20240109T220000Z
DTEND:20240110T000000Z
LOCATION:Gordo's Pub & Grill, 4328 Montgomery Road, Norwood, OH, 45212,
SUMMARY:The Harvard Club January Happy Hour Social--Gordo's Pub & Grill
DESCRIPTION:Come relax with us and escape the dark days of winter in the great Cincinnati neighborhood of Norwood. We'll be around from 5-7 pm.
BEGIN:VALARM
TRIGGER:-PT15M
ACTION:DISPLAY
END:VALARM
TRANSP:OPAQUE
END:VEVENT
END:VCALENDAR
