BEGIN:VCALENDAR
VERSION:2.0
PRODID:-//OmniMagnetCalendar//EN
BEGIN:VEVENT
DTSTAMP:20190625T195740Z
STATUS:CONFIRMED
UID:hccincinnati.clubs.harvard.edu589
DTSTART:20231201T010000Z
DTEND:20231202T040000Z
LOCATION:Music Hall Ballroom , 1241 Elm St.   , cincinnati, OH, 45202,
SUMMARY:Davone Tines, Harvard '09,  to perform with CSO this Thursday, November 30th
DESCRIPTION:After solo performances with the CSO this weekend, Tines to perform this Thursday, November 30th, in El Nino: Nativity Reconisdered
BEGIN:VALARM
TRIGGER:-PT15M
ACTION:DISPLAY
END:VALARM
TRANSP:OPAQUE
END:VEVENT
END:VCALENDAR
