BEGIN:VCALENDAR
VERSION:2.0
PRODID:-//OmniMagnetCalendar//EN
BEGIN:VEVENT
DTSTAMP:20190625T195740Z
STATUS:CONFIRMED
UID:hccincinnati.clubs.harvard.edu582
DTSTART:20231109T230000Z
DTEND:20230712T000000Z
LOCATION:2540 Handasyde Avenue, Cincinnati, OH, 45208, USA,
SUMMARY:Quarterly Ivy-Seven Sisters Event, November 9, 2023
DESCRIPTION:Wine and entrepreneurialism! Join a conversation with Vivian Chen, a native Cincinnatian and Cornell University graduate, to hear about her her career journey and useful wine tips.
BEGIN:VALARM
TRIGGER:-PT15M
ACTION:DISPLAY
END:VALARM
TRANSP:OPAQUE
END:VEVENT
END:VCALENDAR
