BEGIN:VCALENDAR
VERSION:2.0
PRODID:-//OmniMagnetCalendar//EN
BEGIN:VEVENT
DTSTAMP:20190625T195740Z
STATUS:CONFIRMED
UID:hccincinnati.clubs.harvard.edu572
DTSTART:20220918T220000Z
DTEND:20220919T010000Z
LOCATION:The Wyoming Golf Club, 81 Mt. Pleasant Avenue, Cincinnati, OH, 45215, USA,
SUMMARY:Copy of Opening Reception 2022 Hosted by HCC President Shalini Gupta
DESCRIPTION:All Harvard alumni in the area, not only HCC members, are invited for food and cash bar at the Wyoming Golf Club. Check out the event page for full details!  If you didn't get around to registering but find yourself available, come on over!
BEGIN:VALARM
TRIGGER:-PT15M
ACTION:DISPLAY
END:VALARM
TRANSP:OPAQUE
END:VEVENT
END:VCALENDAR
