BEGIN:VCALENDAR
VERSION:2.0
PRODID:-//OmniMagnetCalendar//EN
BEGIN:VEVENT
DTSTAMP:20190625T195740Z
STATUS:CONFIRMED
UID:hccincinnati.clubs.harvard.edu568
DTSTART:20230627T221500Z
DTEND:20230627T231500Z
LOCATION:
SUMMARY:Market Perspectives and the Credit Cycle
DESCRIPTION:Virtual chat featuring HBS alums Josh Friedman, Co-Founder, Co-Chairman and Co-Chief Executive Officer of Canyon Partners, and Ted Seides, Founder of Capital Allocators. Josh and Ted will discuss perspectives on the current market environment.
BEGIN:VALARM
TRIGGER:-PT15M
ACTION:DISPLAY
END:VALARM
TRANSP:OPAQUE
END:VEVENT
END:VCALENDAR
