BEGIN:VCALENDAR
VERSION:2.0
PRODID:-//OmniMagnetCalendar//EN
BEGIN:VEVENT
DTSTAMP:20190625T195740Z
STATUS:CONFIRMED
UID:hccincinnati.clubs.harvard.edu564
DTSTART:20230628T220000Z
DTEND:20230629T000000Z
LOCATION:Factory 52, 4600 Beech St., Suites 100 & 300, Norwood, OH, 45212, USA,
SUMMARY:The Harvard Club Happy Hour Social
DESCRIPTION:Come relax with us at the new Hi-Wire Brewing taproom in the former Ace playing card factory in Norwood!  Renamed Factory 52, it is one of the up-n-coming places to hang out!  We'll be around from 6-8 pm. Look for monthly outings to different breweries.
BEGIN:VALARM
TRIGGER:-PT15M
ACTION:DISPLAY
END:VALARM
TRANSP:OPAQUE
END:VEVENT
END:VCALENDAR
