BEGIN:VCALENDAR
VERSION:2.0
PRODID:-//OmniMagnetCalendar//EN
BEGIN:VEVENT
DTSTAMP:20190625T195740Z
STATUS:CONFIRMED
UID:hccincinnati.clubs.harvard.edu562
DTSTART:20230813T203000Z
DTEND:20230813T223000Z
LOCATION:Dogwood Park under the Bell Tower , 3721 Pleasant St., Mariemont, OH, 45225,
SUMMARY:LAST CALL - Save the Date: Annual Picnic Sunday, August 13, 2023
DESCRIPTION:Free to all Harvard alumni and affiliates and their families, and to our students and their families.  Once again in Dogwood Park on Pleasant St in Mariemont.  Mains, sides, drinks and ICE CREAM  provided. Please RSVP by Aug 9
BEGIN:VALARM
TRIGGER:-PT15M
ACTION:DISPLAY
END:VALARM
TRANSP:OPAQUE
END:VEVENT
END:VCALENDAR
