BEGIN:VCALENDAR
VERSION:2.0
PRODID:-//OmniMagnetCalendar//EN
BEGIN:VEVENT
DTSTAMP:20190625T195740Z
STATUS:CONFIRMED
UID:hccincinnati.clubs.harvard.edu559
DTSTART:20230510T160000Z
DTEND:20230510T171000Z
LOCATION:OH, USA,
SUMMARY:Invitation from Yale Club to video lunch with Dr. Lisa Larkin
DESCRIPTION:Spend your lunch hour with Dr. Lisa Larkin. "Cell Free DNA: What You Should Know about Blood-Based Testing for Cancer Screening".  Organized by the Cincinnati Yale Club. Open to the Harvard Club of Cincinnati. Click through to register. FREE
BEGIN:VALARM
TRIGGER:-PT15M
ACTION:DISPLAY
END:VALARM
TRANSP:OPAQUE
END:VEVENT
END:VCALENDAR
