BEGIN:VCALENDAR
VERSION:2.0
PRODID:-//OmniMagnetCalendar//EN
BEGIN:VEVENT
DTSTAMP:20190625T195740Z
STATUS:CONFIRMED
UID:hccincinnati.clubs.harvard.edu558
DTSTART:20230620T230000Z
DTEND:20230621T003000Z
LOCATION:
SUMMARY:HCCO invitation: Murder at the Harvard Medical School
DESCRIPTION:Ohio native Dale Pollock, American film producer, film professor, and author of Chopped: A Novel, will lead us in a discussion of the gruesome Parkman-Webster case of 1849 where all the main characters had Harvard ties. A true crime story. Free.
BEGIN:VALARM
TRIGGER:-PT15M
ACTION:DISPLAY
END:VALARM
TRANSP:OPAQUE
END:VEVENT
END:VCALENDAR
