BEGIN:VCALENDAR
VERSION:2.0
PRODID:-//OmniMagnetCalendar//EN
BEGIN:VEVENT
DTSTAMP:20190625T195740Z
STATUS:CONFIRMED
UID:hccincinnati.clubs.harvard.edu557
DTSTART:20230517T220000Z
DTEND:20230518T003000Z
LOCATION:Camargo Country Club, 8605 Shawnee Run Road, Cincinnati, OH, 45243, US,
SUMMARY:The 2023 Shore Dinner with Dr. Barbara Walker, PhD
DESCRIPTION:We return to the Camargo Club to hang our with our friends, elect our new Board members and and finish out our year of mindfulness with Dr. Barbara Walker of UC Health, who specializes in health and performance psychology.
BEGIN:VALARM
TRIGGER:-PT15M
ACTION:DISPLAY
END:VALARM
TRANSP:OPAQUE
END:VEVENT
END:VCALENDAR
