BEGIN:VCALENDAR
VERSION:2.0
PRODID:-//OmniMagnetCalendar//EN
BEGIN:VEVENT
DTSTAMP:20190625T195740Z
STATUS:CONFIRMED
UID:hccincinnati.clubs.harvard.edu555
DTSTART:20230411T160000Z
DTEND:20230411T170000Z
LOCATION:
SUMMARY:Invitation from Yale Club to video lunch with Gabe Davis, Yale '07,HLS '11
DESCRIPTION:"Watching the Watchers: Constitutional Policing and Public Safety in the City". Gabe, Yale '07, Harvard Law '11 is the Executive Director of the Citizen Complaint Authority (CCA) for the City of Cincinnati and a great speaker and thinker. 
BEGIN:VALARM
TRIGGER:-PT15M
ACTION:DISPLAY
END:VALARM
TRANSP:OPAQUE
END:VEVENT
END:VCALENDAR
