BEGIN:VCALENDAR
VERSION:2.0
PRODID:-//OmniMagnetCalendar//EN
BEGIN:VEVENT
DTSTAMP:20190625T195740Z
STATUS:CONFIRMED
UID:hccincinnati.clubs.harvard.edu552
DTSTART:20230311T160000Z
DTEND:20230311T180000Z
LOCATION:
SUMMARY:Mindfulness #2: Try Tai Chi
DESCRIPTION:RESCHEDULED: HCC President Dr. Shalini Gupta invites you to her home to try "meditation in motion".  Long-time practioner of Tai chi, Uri Sella, will lead our exploration of this ancient art. Casual and friendly!
BEGIN:VALARM
TRIGGER:-PT15M
ACTION:DISPLAY
END:VALARM
TRANSP:OPAQUE
END:VEVENT
END:VCALENDAR
