BEGIN:VCALENDAR
VERSION:2.0
PRODID:-//OmniMagnetCalendar//EN
BEGIN:VEVENT
DTSTAMP:20190625T195740Z
STATUS:CONFIRMED
UID:hccincinnati.clubs.harvard.edu547
DTSTART:20230413T160000Z
DTEND:20230413T171500Z
LOCATION:Taft Center, US Bank Tower, 2nd floor, 425 Walnut Street, Cincinnati, OH, 45202,
SUMMARY:Spring Luncheon with Peter Blackshaw HBS'95 on April 13
DESCRIPTION:Come meet Pete Blackshaw, CEO of Cintrifuse, "Seeing Through the AI Hype: A Call for Clarity, Perspective, and Mindfulness". He’s dedicated to making Greater Cincinnati the #1 startup hub in the Midwest and a top innovation center in the country.
BEGIN:VALARM
TRIGGER:-PT15M
ACTION:DISPLAY
END:VALARM
TRANSP:OPAQUE
END:VEVENT
END:VCALENDAR
