BEGIN:VCALENDAR
VERSION:2.0
PRODID:-//OmniMagnetCalendar//EN
BEGIN:VEVENT
DTSTAMP:20190625T195740Z
STATUS:CONFIRMED
UID:hccincinnati.clubs.harvard.edu544
DTSTART:20230316T220000Z
DTEND:20230317T000000Z
LOCATION:Element Eatery, 5350 Medpace Way, Cincinnati, OH, 45227,
SUMMARY:Global Networking Night March 16 2023!
DESCRIPTION:Meet up at Element Eatery in Madisonville on March 16!  Global Networking Night brings thousands of Harvard alumni together in cities around the world. REGISTRATION OPEN NOW! Go to the event page to sign up!
BEGIN:VALARM
TRIGGER:-PT15M
ACTION:DISPLAY
END:VALARM
TRANSP:OPAQUE
END:VEVENT
END:VCALENDAR
