BEGIN:VCALENDAR
VERSION:2.0
PRODID:-//OmniMagnetCalendar//EN
BEGIN:VEVENT
DTSTAMP:20190625T195740Z
STATUS:CONFIRMED
UID:hccincinnati.clubs.harvard.edu542
DTSTART:20230602T040101Z
DTEND:
LOCATION:
SUMMARY:Register now! 2nd Annual Harvard Alumni Day
DESCRIPTION:Friday, June 2, 2023 in Cambridge with Mary Louise Kelley '93, President Bacow for his final address, and much fun and celebration!
BEGIN:VALARM
TRIGGER:-PT15M
ACTION:DISPLAY
END:VALARM
TRANSP:OPAQUE
END:VEVENT
END:VCALENDAR
