BEGIN:VCALENDAR
VERSION:2.0
PRODID:-//OmniMagnetCalendar//EN
BEGIN:VEVENT
DTSTAMP:20190625T195740Z
STATUS:CONFIRMED
UID:hccincinnati.clubs.harvard.edu540
DTSTART:20230111T010000Z
DTEND:20230111T021500Z
LOCATION:
SUMMARY:Living Your Best Life Now, with Ishan Shivanand
DESCRIPTION:VIRTUAL.  Join us for the first program in our Mindfulness series!  Acclaimed mental health researcher Ishan Shivanand will show us tools to reduce stress and burnout. Zoom link available now! Click on the event title for full details.
BEGIN:VALARM
TRIGGER:-PT15M
ACTION:DISPLAY
END:VALARM
TRANSP:OPAQUE
END:VEVENT
END:VCALENDAR
