BEGIN:VCALENDAR
VERSION:2.0
PRODID:-//OmniMagnetCalendar//EN
BEGIN:VEVENT
DTSTAMP:20190625T195740Z
STATUS:CONFIRMED
UID:hccincinnati.clubs.harvard.edu539
DTSTART:20230127T050100Z
DTEND:20230129T050100Z
LOCATION:
SUMMARY:Invitation from the Alumnae-I Network for Harvard Women
DESCRIPTION:Save the dates: Connections That Inspire;  A continuous interactive event January 27 – 29, 2023 Virtual on Zoom
BEGIN:VALARM
TRIGGER:-PT15M
ACTION:DISPLAY
END:VALARM
TRANSP:OPAQUE
END:VEVENT
END:VCALENDAR
