BEGIN:VCALENDAR
VERSION:2.0
PRODID:-//OmniMagnetCalendar//EN
BEGIN:VEVENT
DTSTAMP:20190625T195740Z
STATUS:CONFIRMED
UID:hccincinnati.clubs.harvard.edu536
DTSTART:20230210T170000Z
DTEND:20230210T183000Z
LOCATION:
SUMMARY:Mindfulness: A Pathway to Unleash Your Complexity Genius
DESCRIPTION:Virtual talk with Carolyn Coughlin based on "Unleashing your Complexity Genius" by Jennifer Garvey Berger and Carolyn Coughlin. Explore new ways to thrive in a world of constant complexity and challenge. FREE. Preregister to get zoom link. INTERACTIVE
BEGIN:VALARM
TRIGGER:-PT15M
ACTION:DISPLAY
END:VALARM
TRANSP:OPAQUE
END:VEVENT
END:VCALENDAR
