BEGIN:VCALENDAR
VERSION:2.0
PRODID:-//OmniMagnetCalendar//EN
BEGIN:VEVENT
DTSTAMP:20190625T195740Z
STATUS:CONFIRMED
UID:hccincinnati.clubs.harvard.edu535
DTSTART:20221116T220000Z
DTEND:20221116T230000Z
LOCATION:Tiki Tiki Bang Bang, 965 East McMillan St, Cincinnati, OH, 45206,
SUMMARY:Pop-up Social @ Tiki Tiki Bang Bang
DESCRIPTION:Head over to Tiki Tiki Bang Bang for a reprieve from the gray November weather anytime from 5-7 pm. Umbrella drinks aplenty!
BEGIN:VALARM
TRIGGER:-PT15M
ACTION:DISPLAY
END:VALARM
TRANSP:OPAQUE
END:VEVENT
END:VCALENDAR
