BEGIN:VCALENDAR
VERSION:2.0
PRODID:-//OmniMagnetCalendar//EN
BEGIN:VEVENT
DTSTAMP:20190625T195740Z
STATUS:CONFIRMED
UID:hccincinnati.clubs.harvard.edu534
DTSTART:20221115T233000Z
DTEND:20221116T013000Z
LOCATION:
SUMMARY:In Conversation with Howard Wilkinson
DESCRIPTION:The Princeton Club of Cincinnati invites Harvardians to meet Howard Wilkinson, Senior Political Analyst for Cincinnati Public Radio.
BEGIN:VALARM
TRIGGER:-PT15M
ACTION:DISPLAY
END:VALARM
TRANSP:OPAQUE
END:VEVENT
END:VCALENDAR
