BEGIN:VCALENDAR
VERSION:2.0
PRODID:-//OmniMagnetCalendar//EN
BEGIN:VEVENT
DTSTAMP:20190625T195740Z
STATUS:CONFIRMED
UID:hccincinnati.clubs.harvard.edu533
DTSTART:20221116T210000Z
DTEND:20221116T230000Z
LOCATION:
SUMMARY:Lucky Cat Museum Tours and Pop-up Social, November 16
DESCRIPTION:Reservations are closed for both 4 pm and 5 pm tour. All alums are invited to meet up at Tiki Tiki Bang Bang to socialize with funny drinks.
BEGIN:VALARM
TRIGGER:-PT15M
ACTION:DISPLAY
END:VALARM
TRANSP:OPAQUE
END:VEVENT
END:VCALENDAR
