BEGIN:VCALENDAR
VERSION:2.0
PRODID:-//OmniMagnetCalendar//EN
BEGIN:VEVENT
DTSTAMP:20190625T195740Z
STATUS:CONFIRMED
UID:hccincinnati.clubs.harvard.edu532
DTSTART:20221108T170000Z
DTEND:20221108T180000Z
LOCATION:
SUMMARY:Harvard Business School Club of Cincinnati: alumni event November 8
DESCRIPTION:HBS alums in Cincinnati and Dayton are reminded to attend our virtual meeting on November 8 at noon on Economic Engagement. Check November eNews for the zoom link or contact David Zhou (click into the event site).
BEGIN:VALARM
TRIGGER:-PT15M
ACTION:DISPLAY
END:VALARM
TRANSP:OPAQUE
END:VEVENT
END:VCALENDAR
