BEGIN:VCALENDAR
VERSION:2.0
PRODID:-//OmniMagnetCalendar//EN
BEGIN:VEVENT
DTSTAMP:20190625T195740Z
STATUS:CONFIRMED
UID:hccincinnati.clubs.harvard.edu530
DTSTART:20221119T170000Z
DTEND:20221119T220000Z
LOCATION:Fretboard Brewing, 5800 Creek Rd, Blue Ash, OH, 45242,
SUMMARY:Watch Party for The Harvard-Yale Game 2022--November 19
DESCRIPTION:Come cheer on The Crimson, playing on their home turf!  Kick-off at noon. All Harvardians and Yalies are invited! Returning to Fretboard Brewing Company in Blue Ash. Family friendly and fully accessible with free parking! No cover. Snacks provided.
BEGIN:VALARM
TRIGGER:-PT15M
ACTION:DISPLAY
END:VALARM
TRANSP:OPAQUE
END:VEVENT
END:VCALENDAR
