BEGIN:VCALENDAR
VERSION:2.0
PRODID:-//OmniMagnetCalendar//EN
BEGIN:VEVENT
DTSTAMP:20190625T195740Z
STATUS:CONFIRMED
UID:hccincinnati.clubs.harvard.edu529
DTSTART:20221203T140000Z
DTEND:20221203T163000Z
LOCATION:Mayerson Distribution Center-FSFB, 1250 Tennesee Ave, Cincinnati, OH, 45229,
SUMMARY:Community Service: Freestore Foodbank
DESCRIPTION:We are returning to our annual holiday-time service project with FSFB.  Help fight food insecurity in our community!  Please read this year's guidelines carefully before registering. Masks are now optional. Age limit: 8 years old with adult.
BEGIN:VALARM
TRIGGER:-PT15M
ACTION:DISPLAY
END:VALARM
TRANSP:OPAQUE
END:VEVENT
END:VCALENDAR
