BEGIN:VCALENDAR
VERSION:2.0
PRODID:-//OmniMagnetCalendar//EN
BEGIN:VEVENT
DTSTAMP:20190625T195740Z
STATUS:CONFIRMED
UID:hccincinnati.clubs.harvard.edu528
DTSTART:20221006T230000Z
DTEND:20221007T003030Z
LOCATION:
SUMMARY:Harvard Around Town: Walter Isaacson '74 at the Aronoff
DESCRIPTION:Walter Isaacson is the 2022 Mary S. Stern Lecture speaker, which will take place at the Aronoff Center for the Arts this Fall.  Tickets are on sale now. $5.  https://www.cincinnatiarts.org/events/detail/walter-isaacson
BEGIN:VALARM
TRIGGER:-PT15M
ACTION:DISPLAY
END:VALARM
TRANSP:OPAQUE
END:VEVENT
END:VCALENDAR
