BEGIN:VCALENDAR
VERSION:2.0
PRODID:-//OmniMagnetCalendar//EN
BEGIN:VEVENT
DTSTAMP:20190625T195740Z
STATUS:CONFIRMED
UID:hccincinnati.clubs.harvard.edu527
DTSTART:20221004T160000Z
DTEND:20221004T170000Z
LOCATION:
SUMMARY:VIRTUAL: Midterm Elections Matter, HBS AA Alumni
DESCRIPTION:This forum is a nonpartisan discussion, and does not promote endorsement of any current or future political candidates. The moderator will be the superbly capable Professor Jennifer Thomas, from the Howard University school of journalism.  
BEGIN:VALARM
TRIGGER:-PT15M
ACTION:DISPLAY
END:VALARM
TRANSP:OPAQUE
END:VEVENT
END:VCALENDAR
