BEGIN:VCALENDAR
VERSION:2.0
PRODID:-//OmniMagnetCalendar//EN
BEGIN:VEVENT
DTSTAMP:20190625T195740Z
STATUS:CONFIRMED
UID:hccincinnati.clubs.harvard.edu521
DTSTART:20220915T220000Z
DTEND:20220916T000000Z
LOCATION:Mercantile Library, 414 Walnut St, Cincinnati, OH,
SUMMARY:Harvard Around Town: Colin Diver book talk at Mercantile Library
DESCRIPTION:Colin Diver, HLS alumnus, will be in town to talk about his book on college admissions, Breaking Ranks. September 15 at the Mercantile Library. Hybrid event--Free in-person or virtual with pre-registration. Click through to get the link.
BEGIN:VALARM
TRIGGER:-PT15M
ACTION:DISPLAY
END:VALARM
TRANSP:OPAQUE
END:VEVENT
END:VCALENDAR
