BEGIN:VCALENDAR
VERSION:2.0
PRODID:-//OmniMagnetCalendar//EN
BEGIN:VEVENT
DTSTAMP:20190625T195740Z
STATUS:CONFIRMED
UID:hccincinnati.clubs.harvard.edu516
DTSTART:20220913T213000Z
DTEND:20220913T233000Z
LOCATION:Cincinnati, OH,
SUMMARY:Greater Cincinnati Ivy-Seven Sisters Collegial Collegiate Alumnae Quarterly Women’s Event
DESCRIPTION:Registration is now closed.
BEGIN:VALARM
TRIGGER:-PT15M
ACTION:DISPLAY
END:VALARM
TRANSP:OPAQUE
END:VEVENT
END:VCALENDAR
