BEGIN:VCALENDAR
VERSION:2.0
PRODID:-//OmniMagnetCalendar//EN
BEGIN:VEVENT
DTSTAMP:20190625T195740Z
STATUS:CONFIRMED
UID:hccincinnati.clubs.harvard.edu505
DTSTART:20220328T160000Z
DTEND:20220328T170000Z
LOCATION:
SUMMARY:Allyship Series: Unthinkable: Trauma, Truth and the Trials of American Democracy
DESCRIPTION:With Congressman Jamie Raskin '83, JD '87 talking about the suicide of his son and the violent January 6th insurrection and impeachment trial.  Part of Harvard Alumni Allyship Series. 
BEGIN:VALARM
TRIGGER:-PT15M
ACTION:DISPLAY
END:VALARM
TRANSP:OPAQUE
END:VEVENT
END:VCALENDAR
