BEGIN:VCALENDAR
VERSION:2.0
PRODID:-//OmniMagnetCalendar//EN
BEGIN:VEVENT
DTSTAMP:20190625T195740Z
STATUS:CONFIRMED
UID:hccincinnati.clubs.harvard.edu503
DTSTART:20220603T153000Z
DTEND:20220603T201500Z
LOCATION:
SUMMARY:Harvard Alumni Day in Cambridge
DESCRIPTION:Invitation from HAA to register for Harvard Alumni Day with 2-term U.S. Poet Laureate Professor Tracy K. Smith. Live and livestream available.  March through campus with your fellow alumni. HAA looking for Cincy pictures to share online. See article.
BEGIN:VALARM
TRIGGER:-PT15M
ACTION:DISPLAY
END:VALARM
TRANSP:OPAQUE
END:VEVENT
END:VCALENDAR
