BEGIN:VCALENDAR
VERSION:2.0
PRODID:-//OmniMagnetCalendar//EN
BEGIN:VEVENT
DTSTAMP:20190625T195740Z
STATUS:CONFIRMED
UID:hccincinnati.clubs.harvard.edu500
DTSTART:20220331T230000Z
DTEND:20220401T003000Z
LOCATION:
SUMMARY:Women's Quarterly Event organized by the Yale Club
DESCRIPTION:All-Ivy. Virtual. Featuring: Sarah Beyreis,Yale BA ’85, MA ‘94, MA Middlebury ’96, Director of College Counseling at Cincinnati Country Day School. Register to get the Zoom link.
BEGIN:VALARM
TRIGGER:-PT15M
ACTION:DISPLAY
END:VALARM
TRANSP:OPAQUE
END:VEVENT
END:VCALENDAR
