BEGIN:VCALENDAR
VERSION:2.0
PRODID:-//OmniMagnetCalendar//EN
BEGIN:VEVENT
DTSTAMP:20190625T195740Z
STATUS:CONFIRMED
UID:hccincinnati.clubs.harvard.edu496
DTSTART:20220311T164500Z
DTEND:20220311T181500Z
LOCATION:The Taft Center at Fountain Square, 425 Walnut Street, Cincinnati, OH, 45202,
SUMMARY:Leading Women in Cincinnati Luncheon
DESCRIPTION:Welcome Cincy Vice-Mayor Kearney, EDM'79, JD'91 and Moira Weir,President & CEO of United Way, on their journeys of service and civic engagement. In person and virtual options available. Free for HCC members. Boxed lunch.
BEGIN:VALARM
TRIGGER:-PT15M
ACTION:DISPLAY
END:VALARM
TRANSP:OPAQUE
END:VEVENT
END:VCALENDAR
